BEGIN:VCALENDAR
VERSION:2.0
PRODID:-//LUXEXPO THE BOX - Building Original Experiences//NONSGML Events //EN
CALSCALE:GREGORIAN
X-WR-CALNAME:LUXEXPO THE BOX - Building Original Experiences - Events

BEGIN:VEVENT
SUMMARY:Annulé - Salon du Tissu
UID:https://thebox.lu/?post_type=events&p=8157
DTSTAMP:20201211T043314Z
CREATED:20190628T095340Z
DTSTART;VALUE=DATE:20201129
DTEND;VALUE=DATE:20201129
DESCRIPTION:Le plus grand salon du tissu pour les consommateurs en France vient de nouveau chez Luxexpo The Box à Luxembourg cet hiver. Tissus, tissus pour enfants, tissus de doublure, tissus de mariée, tissus pour rideaux, tissus d'ameublement, tissus décoratifs,...
LOCATION:H7\, Luxembourg
ORGANIZER: 
END:VEVENT

END:VCALENDAR