BEGIN:VCALENDAR
VERSION:2.0
PRODID:-//LUXEXPO THE BOX - Building Original Experiences//NONSGML Events //EN
CALSCALE:GREGORIAN
X-WR-CALNAME:LUXEXPO THE BOX - Building Original Experiences - Events

BEGIN:VEVENT
SUMMARY:Événement privé
UID:https://thebox.lu/?post_type=events&p=5814
DTSTAMP:20201211T043416Z
CREATED:20190522T130740Z
DTSTART;VALUE=DATE:20201211
DTEND;VALUE=DATE:20201211
DESCRIPTION:...
LOCATION:\, Luxembourg
ORGANIZER: 
END:VEVENT

END:VCALENDAR