BEGIN:VCALENDAR
VERSION:2.0
PRODID:-//LUXEXPO THE BOX - Building Original Experiences//NONSGML Events //EN
CALSCALE:GREGORIAN
X-WR-CALNAME:LUXEXPO THE BOX - Building Original Experiences - Events

BEGIN:VEVENT
SUMMARY:VinoKilo - Vintage Kilo Sale
UID:https://thebox.lu/?post_type=events&p=5613
DTSTAMP:20201211T043251Z
CREATED:20190412T090315Z
DTSTART;VALUE=DATE:20201106
DTEND;VALUE=DATE:20201108
DESCRIPTION:• Vêtements vintage pour 45€/kg
• Toutes les marques du streetwear au high end: Levi’s, Converse,
Adidas, Helly Hansen, North Face, Wrangler et beaucoup plus!
• Énorme variété de styles et de tailles
• Sac en cuir
• Musique...
LOCATION:Agora Sud\, Luxembourg
ORGANIZER: 
END:VEVENT

END:VCALENDAR