BEGIN:VCALENDAR
VERSION:2.0
PRODID:-//LUXEXPO THE BOX - Building Original Experiences//NONSGML Events //EN
CALSCALE:GREGORIAN
X-WR-CALNAME:LUXEXPO THE BOX - Building Original Experiences - Events

BEGIN:VEVENT
SUMMARY:Semaine Nationale du Logement
UID:https://thebox.lu/?post_type=events&p=5342
DTSTAMP:20201211T043212Z
CREATED:20190321T101730Z
DTSTART;VALUE=DATE:20201010
DTEND;VALUE=DATE:20201018
DESCRIPTION:La Semaine Nationale du Logement 2019 sera organisée en parallèle avec Home &amp; Living Expo et aura lieu chez LUXEXPO THE BOX dans le Hall 9!/n
Salon grand public donnant une fenêtre représentative de l'offre du marché du logement tant en termes d...
LOCATION:H9\, Luxembourg
ORGANIZER: 
END:VEVENT

END:VCALENDAR