BEGIN:VCALENDAR
VERSION:2.0
PRODID:-//LUXEXPO THE BOX - Building Original Experiences//NONSGML Events //EN
CALSCALE:GREGORIAN
X-WR-CALNAME:LUXEXPO THE BOX - Building Original Experiences - Events

BEGIN:VEVENT
SUMMARY:Bazar International
UID:http://thebox.lu/events/bazar-international/
DTSTAMP:20171220T110710Z
CREATED:20170117T154133Z
DTSTART;VALUE=DATE:20171125
DTEND;VALUE=DATE:20171126
DESCRIPTION:OrganisÃ© par lâ€™association du Bazar International de Luxembourg asbl, cet Ã©vÃ¨nement effectue depuis plus de 57 ans de la rÃ©colte de fonds dans une ambiance chaleureuse et de multiculturalisme : plus de 73 stands reprÃ©sentÃ©s par des bÃ©nÃ©voles dâ€...
LOCATION:Hall 2 / Hall 3\, Luxembourg
ORGANIZER: Bazar International De Luxembourg
END:VEVENT

END:VCALENDAR