BEGIN:VCALENDAR
VERSION:2.0
PRODID:-//LUXEXPO THE BOX - Building Original Experiences//NONSGML Events //EN
CALSCALE:GREGORIAN
X-WR-CALNAME:LUXEXPO THE BOX - Building Original Experiences - Events

BEGIN:VEVENT
SUMMARY:Home expo
UID:https://thebox.lu/?post_type=events&p=5244
DTSTAMP:20201211T042857Z
CREATED:20190308T164035Z
DTSTART;VALUE=DATE:20201010
DTEND;VALUE=DATE:20201018
DESCRIPTION:Home Expo est le salon du logement, de la construction, de la rénovation, de l’ameublement et de la décoration. Du 10 au 18 octobre 2020, Home Expo réunira l’essentiel de l’habitat et tout ce qui va avec !

Pendant ces 9 jours, venez découvrir...
LOCATION:H2 / H3 / H8 / H9\, Luxembourg
ORGANIZER: 
END:VEVENT

END:VCALENDAR