BEGIN:VCALENDAR
VERSION:2.0
PRODID:-//LUXEXPO THE BOX - Building Original Experiences//NONSGML Events //EN
CALSCALE:GREGORIAN
X-WR-CALNAME:LUXEXPO THE BOX - Building Original Experiences - Events

BEGIN:VEVENT
SUMMARY:Salon du Vintage
UID:https://thebox.lu/?post_type=events&p=4947
DTSTAMP:20201211T043227Z
CREATED:20190125T090300Z
DTSTART;VALUE=DATE:20201024
DTEND;VALUE=DATE:20201025
DESCRIPTION:...
LOCATION:Porche Nord\, Hall 9\, Luxembourg
ORGANIZER: 
END:VEVENT

END:VCALENDAR