BEGIN:VCALENDAR
VERSION:2.0
PRODID:-//LUXEXPO THE BOX - Building Original Experiences//NONSGML Events //EN
CALSCALE:GREGORIAN
X-WR-CALNAME:LUXEXPO THE BOX - Building Original Experiences - Events

BEGIN:VEVENT
SUMMARY:Unicareers.lu - Le salon de recrutement de l'Université du Luxembourg
UID:https://thebox.lu/?post_type=events&p=3952
DTSTAMP:20210722T105534Z
CREATED:20180713T153004Z
DTSTART;VALUE=DATE:20180928
DTEND;VALUE=DATE:20180928
DESCRIPTION:Le salon de recrutement Unicareers.lu, évènement officiel de l'Université du Luxembourg, vous permettra de rencontrer en une seule journée les principaux employeurs du Luxembourg !
Cet évènement est dédié aux étudiants à la recherche d'un stage...
LOCATION:H7\, Luxembourg
ORGANIZER: Unicareers.lu
END:VEVENT

END:VCALENDAR