BEGIN:VCALENDAR
VERSION:2.0
PRODID:-//LUXEXPO THE BOX - Building Original Experiences//NONSGML Events //EN
CALSCALE:GREGORIAN
X-WR-CALNAME:LUXEXPO THE BOX - Building Original Experiences - Events

BEGIN:VEVENT
SUMMARY:Événement privé
UID:https://thebox.lu/?post_type=events&p=3807/
DTSTAMP:20210722T105548Z
CREATED:20180529T113059Z
DTSTART;VALUE=DATE:20180619
DTEND;VALUE=DATE:20180621
DESCRIPTION:...
LOCATION:\, Luxembourg
ORGANIZER: 
END:VEVENT

END:VCALENDAR