BEGIN:VCALENDAR
VERSION:2.0
PRODID:-//LUXEXPO THE BOX - Building Original Experiences//NONSGML Events //EN
CALSCALE:GREGORIAN
X-WR-CALNAME:LUXEXPO THE BOX - Building Original Experiences - Events

BEGIN:VEVENT
SUMMARY:ANTIQUES & ART FAIR LUXEMBOURG
UID:https://thebox.lu/?post_type=events&p=3793/
DTSTAMP:20210722T105551Z
CREATED:20180524T080336Z
DTSTART;VALUE=DATE:20190201
DTEND;VALUE=DATE:20190204
DESCRIPTION:Salon dédié aux collectionneurs et intéressés et présentant sur plus de 4.500 m2 des beaux objets, meubles et antiquités.

Antiques &amp; Art Fair a lieu chez LUXEXPO THE BOX dans les halls 2 &amp; 3  .
Des points de restauration sont mis en...
LOCATION:H2\, Luxembourg
ORGANIZER: 
END:VEVENT

END:VCALENDAR