BEGIN:VCALENDAR
VERSION:2.0
PRODID:-//LUXEXPO THE BOX - Building Original Experiences//NONSGML Events //EN
CALSCALE:GREGORIAN
X-WR-CALNAME:LUXEXPO THE BOX - Building Original Experiences - Events

BEGIN:VEVENT
SUMMARY:Fixmer Event
UID:https://thebox.lu/?post_type=events&p=3284/
DTSTAMP:20180702T233711Z
CREATED:20180119T090009Z
DTSTART;VALUE=DATE:20180919
DTEND;VALUE=DATE:20180919
DESCRIPTION:...
LOCATION:Espace congrés & conférence\, Luxembourg
ORGANIZER: 
END:VEVENT

END:VCALENDAR