BEGIN:VCALENDAR
VERSION:2.0
PRODID:-//LUXEXPO THE BOX - Building Original Experiences//NONSGML Events //EN
CALSCALE:GREGORIAN
X-WR-CALNAME:LUXEXPO THE BOX - Building Original Experiences - Events

BEGIN:VEVENT
SUMMARY:ACA Insurance Days
UID:https://thebox.lu/?post_type=events&p=31968
DTSTAMP:20201211T043301Z
CREATED:20201030T124808Z
DTSTART;VALUE=DATE:20201112
DTEND;VALUE=DATE:20201112
DESCRIPTION:ACA Insurance Days, le forum qui rassemble la communauté de l'assurance au Luxembourg

 	12.11.2020 10h00 - 12h00

La déferlante sustainability, défi pour les experts du secteur ?

 	19.11.2020 10h00 - 12h00

L'essor du digital et les enseignem...
LOCATION:\, Luxembourg
ORGANIZER: 
END:VEVENT

END:VCALENDAR