BEGIN:VCALENDAR
VERSION:2.0
PRODID:-//LUXEXPO THE BOX - Building Original Experiences//NONSGML Events //EN
CALSCALE:GREGORIAN
X-WR-CALNAME:LUXEXPO THE BOX - Building Original Experiences - Events

BEGIN:VEVENT
SUMMARY:ACA Insurance Days
UID:https://thebox.lu/?post_type=events&p=31956
DTSTAMP:20201211T043257Z
CREATED:20201030T124106Z
DTSTART;VALUE=DATE:20201109
DTEND;VALUE=DATE:20201109
DESCRIPTION:ACA Insurance Days, le forum qui rassemble la communauté de l'assurance au Luxembourg

 	09.11.2020 10h00 - 12h00

Comment le secteur financier luxembourgeois sort de la crise liée au Covid-19 ?

 	12.11.2020 10h00 - 12h00

La déferlante sustai...
LOCATION:\, Luxembourg
ORGANIZER: 
END:VEVENT

END:VCALENDAR