BEGIN:VCALENDAR
VERSION:2.0
PRODID:-//LUXEXPO THE BOX - Building Original Experiences//NONSGML Events //EN
CALSCALE:GREGORIAN
X-WR-CALNAME:LUXEXPO THE BOX - Building Original Experiences - Events

BEGIN:VEVENT
SUMMARY:ÉVÉNEMENT PRIVÉ
UID:https://thebox.lu/?post_type=events&p=26028
DTSTAMP:20201211T043344Z
CREATED:20191210T155938Z
DTSTART;VALUE=DATE:20201205
DTEND;VALUE=DATE:20201205
DESCRIPTION:...
LOCATION:\, Luxembourg
ORGANIZER: 
END:VEVENT

END:VCALENDAR