BEGIN:VCALENDAR
VERSION:2.0
PRODID:-//LUXEXPO THE BOX - Building Original Experiences//NONSGML Events //EN
CALSCALE:GREGORIAN
X-WR-CALNAME:LUXEXPO THE BOX - Building Original Experiences - Events

BEGIN:VEVENT
SUMMARY:Fair Priced Vintage
UID:https://thebox.lu/?post_type=events&p=76304
DTSTAMP:20260424T080926Z
CREATED:20260323T074115Z
DTSTART;VALUE=DATE:20260424
DTEND;VALUE=DATE:20260426
DESCRIPTION:Fair Priced Vintage. C'est le vintage comme il se doit : des prix justes, une qualité supérieure et des articles exceptionnels. Nous organisons le marché de vêtements vintage le plus stylé d'Europe. Tout est sélectionné à la main, propre et prêt ...
LOCATION:Forum Sud Gauche\, Luxembourg
ORGANIZER: 
END:VEVENT

END:VCALENDAR